BEGIN:VCALENDAR
VERSION:2.0
PRODID:-//https://zuid-holland.hcc.nl///NONSGML kigkonsult.se iCalcreator 2.10.15//
METHOD:PUBLISH
BEGIN:VEVENT
UID:20260422T110449CEST-2569ursVAh@https://zuid-holland.hcc.nl/
DTSTAMP:20260422T090449Z
DESCRIPTION: \nOp elke 1e zaterdag v/d maand is het FS Haaglanden clubmidda
 g in onze Voorburg hangar De Groene Loper\, waar wordt gevlogen en voorbee
 ld lessen zijn te volgenHet karakter van deze middag is een vrije sessie w
 aar minimaal twee vliegcomputers met toebehoren worden opgesteld\, alsmede
  een ruime koffietafel waar leden alles vrijblijvend omtrent de flightsim 
 hobby kunnen bespreken.\nLeden met hardware problemen kunnen hier ook tere
 cht voor technische ondersteuning\, mits vooraf aangekondigd.\n \n  https:
 //zuid-holland.hcc.nl/component/rseventspro/evenement/948-fs-haaglanden-bi
 jeenkomst?Itemid=101
DTSTART:20260606T110000Z
DTEND:20260606T153000Z
LOCATION:FS Haaglanden (van Royenstraat 2\, 2273 VD Voorburg)
SUMMARY:FS-Haaglanden bijeenkomst
URL:https://zuid-holland.hcc.nl/component/rseventspro/evenement/948-fs-haag
 landen-bijeenkomst?Itemid=101
END:VEVENT
BEGIN:VEVENT
UID:20260422T110449CEST-2570amFwUS@https://zuid-holland.hcc.nl/
DTSTAMP:20260422T090449Z
DESCRIPTION: \nOp elke 1e zaterdag v/d maand is het FS Haaglanden clubmidda
 g in onze Voorburg hangar De Groene Loper\, waar wordt gevlogen en voorbee
 ld lessen zijn te volgenHet karakter van deze middag is een vrije sessie w
 aar minimaal twee vliegcomputers met toebehoren worden opgesteld\, alsmede
  een ruime koffietafel waar leden alles vrijblijvend omtrent de flightsim 
 hobby kunnen bespreken.\nLeden met hardware problemen kunnen hier ook tere
 cht voor technische ondersteuning\, mits vooraf aangekondigd.\n \n  https:
 //zuid-holland.hcc.nl/component/rseventspro/evenement/949-fs-haaglanden-bi
 jeenkomst?Itemid=101
DTSTART:20260905T110000Z
DTEND:20260905T153000Z
LOCATION:FS Haaglanden (van Royenstraat 2\, 2273 VD Voorburg)
SUMMARY:FS-Haaglanden bijeenkomst
URL:https://zuid-holland.hcc.nl/component/rseventspro/evenement/949-fs-haag
 landen-bijeenkomst?Itemid=101
END:VEVENT
BEGIN:VEVENT
UID:20260422T110449CEST-257281TFUR@https://zuid-holland.hcc.nl/
DTSTAMP:20260422T090449Z
DESCRIPTION: \nOp elke 1e zaterdag v/d maand is het FS Haaglanden clubmidda
 g in onze Voorburg hangar De Groene Loper\, waar wordt gevlogen en voorbee
 ld lessen zijn te volgenHet karakter van deze middag is een vrije sessie w
 aar minimaal twee vliegcomputers met toebehoren worden opgesteld\, alsmede
  een ruime koffietafel waar leden alles vrijblijvend omtrent de flightsim 
 hobby kunnen bespreken.\nLeden met hardware problemen kunnen hier ook tere
 cht voor technische ondersteuning\, mits vooraf aangekondigd.\n \n  https:
 //zuid-holland.hcc.nl/component/rseventspro/evenement/950-fs-haaglanden-bi
 jeenkomst?Itemid=101
DTSTART:20261003T110000Z
DTEND:20261003T153000Z
LOCATION:FS Haaglanden (van Royenstraat 2\, 2273 VD Voorburg)
SUMMARY:FS-Haaglanden bijeenkomst
URL:https://zuid-holland.hcc.nl/component/rseventspro/evenement/950-fs-haag
 landen-bijeenkomst?Itemid=101
END:VEVENT
BEGIN:VEVENT
UID:20260422T110449CEST-2573BGr7Xk@https://zuid-holland.hcc.nl/
DTSTAMP:20260422T090449Z
DESCRIPTION: \nOp elke 1e zaterdag v/d maand is het FS Haaglanden clubmidda
 g in onze Voorburg hangar De Groene Loper\, waar wordt gevlogen en voorbee
 ld lessen zijn te volgenHet karakter van deze middag is een vrije sessie w
 aar minimaal twee vliegcomputers met toebehoren worden opgesteld\, alsmede
  een ruime koffietafel waar leden alles vrijblijvend omtrent de flightsim 
 hobby kunnen bespreken.\nLeden met hardware problemen kunnen hier ook tere
 cht voor technische ondersteuning\, mits vooraf aangekondigd.\n \n  https:
 //zuid-holland.hcc.nl/component/rseventspro/evenement/951-fs-haaglanden-bi
 jeenkomst?Itemid=101
DTSTART:20261107T110000Z
DTEND:20261107T153000Z
LOCATION:FS Haaglanden (van Royenstraat 2\, 2273 VD Voorburg)
SUMMARY:FS-Haaglanden bijeenkomst
URL:https://zuid-holland.hcc.nl/component/rseventspro/evenement/951-fs-haag
 landen-bijeenkomst?Itemid=101
END:VEVENT
BEGIN:VEVENT
UID:20260422T110449CEST-2574E3O9Gs@https://zuid-holland.hcc.nl/
DTSTAMP:20260422T090449Z
DESCRIPTION: \nOp elke 1e zaterdag v/d maand is het FS Haaglanden clubmidda
 g in onze Voorburg hangar De Groene Loper\, waar wordt gevlogen en voorbee
 ld lessen zijn te volgenHet karakter van deze middag is een vrije sessie w
 aar minimaal twee vliegcomputers met toebehoren worden opgesteld\, alsmede
  een ruime koffietafel waar leden alles vrijblijvend omtrent de flightsim 
 hobby kunnen bespreken.\nLeden met hardware problemen kunnen hier ook tere
 cht voor technische ondersteuning\, mits vooraf aangekondigd.\n \n  https:
 //zuid-holland.hcc.nl/component/rseventspro/evenement/952-fs-haaglanden-bi
 jeenkomst?Itemid=101
DTSTART:20261205T110000Z
DTEND:20261205T153000Z
LOCATION:FS Haaglanden (van Royenstraat 2\, 2273 VD Voorburg)
SUMMARY:FS-Haaglanden bijeenkomst
URL:https://zuid-holland.hcc.nl/component/rseventspro/evenement/952-fs-haag
 landen-bijeenkomst?Itemid=101
END:VEVENT
BEGIN:VEVENT
UID:20260422T110449CEST-2576bXLgnj@https://zuid-holland.hcc.nl/
DTSTAMP:20260422T090449Z
DESCRIPTION:Pinksteren https://zuid-holland.hcc.nl/component/rseventspro/ev
 enement/964-pinksteren?Itemid=101
DTSTART:20260523T223000Z
DTEND:20260525T213000Z
LOCATION:Online ()
SUMMARY:Pinksteren
URL:https://zuid-holland.hcc.nl/component/rseventspro/evenement/964-pinkste
 ren?Itemid=101
END:VEVENT
BEGIN:VEVENT
UID:20260422T110449CEST-2576ddjuWN@https://zuid-holland.hcc.nl/
DTSTAMP:20260422T090449Z
DESCRIPTION:In samenwerking met Computerclub Nissewaard.\nOnze inloop is be
 doeld voor iedereen die praktische hulp en ondersteuning nodig heeft bij h
 et gebruik van digitale apparatuur\, zoals desktop\, laptop\, tablet en sm
 artphone.\nTe denken valt aan:\n- opschonen van uw computer- updates downl
 oaden- apps installeren- accounts aanmaken op uw apparaten (breng dan wel 
 uw gegevens mee)- e-mail problemen- instellingen aanpassen\nOnze deskundig
 en zitten klaar om u met raad en daad terzijde te staan. https://zuid-holl
 and.hcc.nl/component/rseventspro/evenement/972-inloop-digitale-hulp?Itemid
 =101
DTSTART:20260520T173000Z
DTEND:20260520T193000Z
LOCATION:SR Spijkenisse  - Wijkcentrum 't Centrum (M.A. de Ruijterstraat 3\
 , 3201 CK Spijkenisse)
SUMMARY:Inloop digitale hulp.
URL:https://zuid-holland.hcc.nl/component/rseventspro/evenement/972-inloop-
 digitale-hulp?Itemid=101
END:VEVENT
BEGIN:VEVENT
UID:20260422T110449CEST-2578daSvso@https://zuid-holland.hcc.nl/
DTSTAMP:20260422T090449Z
DESCRIPTION:In samenwerking met Computerclub Nissewaard.\nOnze inloop is be
 doeld voor iedereen die praktische hulp en ondersteuning nodig heeft bij h
 et gebruik van digitale apparatuur\, zoals desktop\, laptop\, tablet en sm
 artphone.\nTe denken valt aan:\n- opschonen van uw computer- updates downl
 oaden- apps installeren- accounts aanmaken op uw apparaten (breng dan wel 
 uw gegevens mee)- e-mail problemen- instellingen aanpassen\nOnze deskundig
 en zitten klaar om u met raad en daad terzijde te staan. https://zuid-holl
 and.hcc.nl/component/rseventspro/evenement/973-inloop-digitale-hulp?Itemid
 =101
DTSTART:20260527T173000Z
DTEND:20260527T193000Z
LOCATION:SR Spijkenisse  - Wijkcentrum 't Centrum (M.A. de Ruijterstraat 3\
 , 3201 CK Spijkenisse)
SUMMARY:Inloop digitale hulp.
URL:https://zuid-holland.hcc.nl/component/rseventspro/evenement/973-inloop-
 digitale-hulp?Itemid=101
END:VEVENT
BEGIN:VEVENT
UID:20260422T110449CEST-2579Iehjzc@https://zuid-holland.hcc.nl/
DTSTAMP:20260422T090449Z
DESCRIPTION:Onze inloop is bedoeld voor iedereen die praktische hulp en ond
 ersteuning nodig heeft bij het gebruik van digitale apparatuur\, zoals des
 ktop\, laptop\, tablet en smartphone.\nTe denken valt aan:\n- opschonen va
 n uw computer- updates downloaden- apps installeren- accounts aanmaken op 
 uw apparaten (breng dan wel uw gegevens mee)- e-mail problemen- instelling
 en aanpassen\nOnze deskundigen zitten klaar om u met raad en daad terzijde
  te staan.\nDeze inloop is allen toegankelijk voor leden van de FNV en HCC
 . https://zuid-holland.hcc.nl/component/rseventspro/evenement/979-inloop-d
 igitale-hulp?Itemid=101
DTSTART:20260619T110000Z
DTEND:20260619T130000Z
LOCATION:SR Rotterdam Alexander (inloop) (Pegasusweg 200\, 3067 KX Rotterda
 m)
SUMMARY:Inloop Digitale Hulp.
URL:https://zuid-holland.hcc.nl/component/rseventspro/evenement/979-inloop-
 digitale-hulp?Itemid=101
END:VEVENT
BEGIN:VEVENT
UID:20260422T110449CEST-2581dKic64@https://zuid-holland.hcc.nl/
DTSTAMP:20260422T090449Z
DESCRIPTION:Simpel gezegd is Artificiële Intelligentie (AI) de simulatie va
 n menselijke intelligentie in machines die zijn geprogrammeerd om te “denk
 en”\, te leren en problemen op te lossen. Dit betekent niet dat computers 
 emoties hebben of bewustzijn\, maar dat ze taken kunnen uitvoeren die norm
 aal gesproken menselijke intelligentie vereisen.\nJe gebruikt AI waarschij
 nlijk al dagelijks zonder het te beseffen! Het zit verborgen in veel van d
 e technologieën die we als vanzelfsprekend beschouwen.\nAI is er niet om t
 aken van je over te nemen\, maar om je te ondersteunen en te versterken. Z
 ie het als een superintelligente assistent die klaarstaat om te helpen.\nI
 n deze presentatie laten we je nader kennismaken  met de mogelijkheden en 
 kansen met AI.\nPresentator is Dick Elzinga\nInloop vanaf 13.00 uur\nStart
  presentatie om 13.30 uur https://zuid-holland.hcc.nl/component/rseventspr
 o/evenement/1002-presentatie-ai-voor-jou-mij---een-praktische-gids?Itemid=
 101
DTSTART:20260526T113000Z
DTEND:20260526T140000Z
LOCATION:SR Capelle a/d IJssel Oostgaarde  (De Linie 5B\, 2905 AX Capelle a
 an den IJssel)
SUMMARY:Presentatie:  AI voor Jou & Mij – Een Praktische Gids 
URL:https://zuid-holland.hcc.nl/component/rseventspro/evenement/1002-presen
 tatie-ai-voor-jou-mij---een-praktische-gids?Itemid=101
END:VEVENT
END:VCALENDAR
